BEGIN:VCALENDAR
VERSION:2.0
PRODID:-//wp-events-plugin.com//7.2.3.1//EN
BEGIN:VEVENT
UID:20@abotamiami.com
DTSTART;VALUE=DATE:20181012
DTEND;VALUE=DATE:20181014
DTSTAMP:20180129T114541Z
URL:https://www.abotamiami.com/events/national-board-meeting-the-equinox-r
 esort-spa/
SUMMARY:National Board Meeting – The Equinox Resort & Spa
DESCRIPTION:National Board Meeting – The Equinox Resort &amp\; Spa\, Manc
 hester\, VT
LOCATION:The Equinox Resort & Spa\, The Equinox Resort &amp\; Spa\, Manches
 ter\, VT\, Manchester\, Vermont\, United States
GEO:43.1622925;-73.07301710000002
X-APPLE-STRUCTURED-LOCATION;VALUE=URI;X-ADDRESS=The Equinox Resort & Spa\, 
 Manchester\, VT\, Manchester\, Vermont\, United States;X-APPLE-RADIUS=100;
 X-TITLE=The Equinox Resort & Spa:geo:43.1622925,-73.07301710000002
END:VEVENT
END:VCALENDAR