BEGIN:VCALENDAR
VERSION:2.0
PRODID:-//wp-events-plugin.com//7.2.3.1//EN
BEGIN:VEVENT
UID:88@abotamiami.com
DTSTART:20230524T180000Z
DTEND:20230524T200000Z
DTSTAMP:20230519T185658Z
URL:https://www.abotamiami.com/events/john-martins-cocktail-event-scholars
 hip-awards/
SUMMARY:John Martin's Cocktail Event - Scholarship Awards
DESCRIPTION:Congratulate Law School Scholarship Recipients!\n\nOpen bar\, f
 ood and social gathering!
LOCATION:John Martin's\, 253 Miracle Mile\, Coral Gables\, FL\, 33134\, Uni
 ted States
GEO:25.7498;-80.259792
X-APPLE-STRUCTURED-LOCATION;VALUE=URI;X-ADDRESS=253 Miracle Mile\, Coral Ga
 bles\, FL\, 33134\, United States;X-APPLE-RADIUS=100;X-TITLE=John Martin's
 :geo:25.7498,-80.259792
END:VEVENT
END:VCALENDAR