BEGIN:VCALENDAR
VERSION:2.0
PRODID:-//wp-events-plugin.com//7.2.3.1//EN
BEGIN:VEVENT
UID:95@abotamiami.com
DTSTART:20240222T180000Z
DTEND:20240222T200000Z
DTSTAMP:20240214T163152Z
URL:https://www.abotamiami.com/events/february-meeting-la-terrazza/
SUMMARY:FEBRUARY MEETING @ LA TERRAZZA DA FIOLA
DESCRIPTION:
LOCATION:La Terrazza Rooftop Bar & Grill\, 1500 San Ignacio Ave\, Coral Gab
 les\, FL\, 33146\, United States
GEO:25.705154;-80.282415
X-APPLE-STRUCTURED-LOCATION;VALUE=URI;X-ADDRESS=1500 San Ignacio Ave\, Cora
 l Gables\, FL\, 33146\, United States;X-APPLE-RADIUS=100;X-TITLE=La Terraz
 za Rooftop Bar & Grill:geo:25.705154,-80.282415
END:VEVENT
END:VCALENDAR