BEGIN:VCALENDAR
VERSION:2.0
PRODID:-//wp-events-plugin.com//7.2.3.1//EN
BEGIN:VEVENT
UID:58@abotamiami.com
DTSTART:20191113T180000Z
DTEND:20191113T200000Z
DTSTAMP:20191107T155221Z
URL:https://www.abotamiami.com/events/academy-night-at-southwest-miami-sen
 ior-high-school/
SUMMARY:Academy Night at Southwest Miami Senior High School
DESCRIPTION:Room 574 of Building 5\n8855 SW 50th Terrace\n\nKen Nadaskay\, 
 BA\, MS\nSocial Sciences Teacher (Law Studies and World History Honors)\nT
 he Law Studies Academy (Lead Teacher)\nLaw Studies Club\, Social Studies H
 onor Society & The Da Vinci Society (Sponsor)\nSouthwest Miami Senior High
  School\n
LOCATION:Southwest Miami Senior High School\, 8855 SW 50 Terrace\, Miami\, 
 FL\, 33155\, United States
GEO:25.7230115;-80.3165914
X-APPLE-STRUCTURED-LOCATION;VALUE=URI;X-ADDRESS=8855 SW 50 Terrace\, Miami\
 , FL\, 33155\, United States;X-APPLE-RADIUS=100;X-TITLE=Southwest Miami Se
 nior High School:geo:25.7230115,-80.3165914
END:VEVENT
END:VCALENDAR